BEGIN:VCALENDAR
VERSION:2.0
PRODID:-//eventon.com NONSGML v1.0//EN
CALSCALE:GREGORIAN
METHOD:PUBLISH
BEGIN:VEVENT
UID:69e6b20ebb094
DTSTAMP:20260420T230902Z
DTSTART:20260426T100000Z
DTEND:20260426T120000Z
LOCATION:
SUMMARY:Loews Hotel Philadelphia
DESCRIPTION:Daille Kettrell piano * Gerald Benson Bass & vocals  * Abe Spe
 ller drums\nhttps://abespellerjazztrio.com/events/loews-hotel-philadelphia-
 3/
URL:https://abespellerjazztrio.com/events/loews-hotel-philadelphia-3/
END:VEVENT
END:VCALENDAR