BEGIN:VCALENDAR
VERSION:2.0
PRODID:-//eventon.com NONSGML v1.0//EN
CALSCALE:GREGORIAN
METHOD:PUBLISH
BEGIN:VEVENT
UID:69e6b21220950
DTSTAMP:20260420T230906Z
DTSTART:20260628T150000Z
DTEND:20260628T190000Z
LOCATION:
SUMMARY:Frank Kerkapoly Memorial
DESCRIPTION:Musicians\,  family and friends from the New York area will com
 e together to honor our long time friend\,  classmate and musician Frank Ke
 rkapoly. Will feature Howie Johnson guitars\,  Ken Buchanan bass\,  Jay Lup
 etin blues harp\,  Jon Bates drums\,  Abe Speller drums and many many more.
 ..\nhttps://abespellerjazztrio.com/events/frank-kerkapoly-memorial/
URL:https://abespellerjazztrio.com/events/frank-kerkapoly-memorial/
END:VEVENT
END:VCALENDAR