BEGIN:VCALENDAR
VERSION:2.0
PRODID:-//eventon.com NONSGML v1.0//EN
CALSCALE:GREGORIAN
METHOD:PUBLISH
BEGIN:VEVENT
UID:69e6b213b6c47
DTSTAMP:20260420T230907Z
DTSTART:20260628T100000Z
DTEND:20260628T120000Z
LOCATION:
SUMMARY:Loews Hotel Philadelphia
DESCRIPTION:Jazz Brunch\nhttps://abespellerjazztrio.com/events/loews-hotel-
 philadelphia-4/
URL:https://abespellerjazztrio.com/events/loews-hotel-philadelphia-4/
END:VEVENT
END:VCALENDAR